BEGIN:VCALENDAR
VERSION:2.0
PRODID:-//Civil Rights Institute Inland Southern California - ECPv6.15.17.1//NONSGML v1.0//EN
CALSCALE:GREGORIAN
METHOD:PUBLISH
X-WR-CALNAME:Civil Rights Institute Inland Southern California
X-ORIGINAL-URL:https://www.inlandcivilrights.org
X-WR-CALDESC:Events for Civil Rights Institute Inland Southern California
REFRESH-INTERVAL;VALUE=DURATION:PT1H
X-Robots-Tag:noindex
X-PUBLISHED-TTL:PT1H
BEGIN:VTIMEZONE
TZID:America/Los_Angeles
BEGIN:DAYLIGHT
TZOFFSETFROM:-0800
TZOFFSETTO:-0700
TZNAME:PDT
DTSTART:20230312T100000
END:DAYLIGHT
BEGIN:STANDARD
TZOFFSETFROM:-0700
TZOFFSETTO:-0800
TZNAME:PST
DTSTART:20231105T090000
END:STANDARD
BEGIN:DAYLIGHT
TZOFFSETFROM:-0800
TZOFFSETTO:-0700
TZNAME:PDT
DTSTART:20240310T100000
END:DAYLIGHT
BEGIN:STANDARD
TZOFFSETFROM:-0700
TZOFFSETTO:-0800
TZNAME:PST
DTSTART:20241103T090000
END:STANDARD
BEGIN:DAYLIGHT
TZOFFSETFROM:-0800
TZOFFSETTO:-0700
TZNAME:PDT
DTSTART:20250309T100000
END:DAYLIGHT
BEGIN:STANDARD
TZOFFSETFROM:-0700
TZOFFSETTO:-0800
TZNAME:PST
DTSTART:20251102T090000
END:STANDARD
END:VTIMEZONE
BEGIN:VEVENT
DTSTART;TZID=America/Los_Angeles:20240601T133000
DTEND;TZID=America/Los_Angeles:20240601T180000
DTSTAMP:20260419T143359
CREATED:20240716T060503Z
LAST-MODIFIED:20240716T060957Z
UID:10003705-1717248600-1717264800@www.inlandcivilrights.org
SUMMARY:Anti-Hate Kick Off Forum
DESCRIPTION:JOIN US IN SOLIDARITY AGAINST HATE\nLULAC\, the NAACP\, and CHIRLA cordially invite you to stand with us against hate on Saturday\, June 1\, 2024\, at the Civil Rights Institute of Inland Southern California. \nInland Counties Against Hate will be hosting panels and discussions focused on: \n\nSafe Hate Crime Reporting\nPersonal Testimonies\nCommunity Resources\n\nTogether\, we can build a stronger\, more inclusive community! \nDownload Flyer
URL:https://www.inlandcivilrights.org/event/anti-hate-kick-off-forum/
LOCATION:Civil Rights Institute of Inland Southern California\, Bank of America Diversity Center\, 3933 Mission Inn Ave.\, Suite 102\, Riverside\, 92501
CATEGORIES:Community Events
GEO:33.9845289;-117.3763891
X-APPLE-STRUCTURED-LOCATION;VALUE=URI;X-ADDRESS=Civil Rights Institute of Inland Southern California Bank of America Diversity Center 3933 Mission Inn Ave. Suite 102 Riverside 92501;X-APPLE-RADIUS=500;X-TITLE=3933 Mission Inn Ave.\, Suite 102:geo:-117.3763891,33.9845289
END:VEVENT
END:VCALENDAR