BEGIN:VCALENDAR
VERSION:2.0
PRODID:-//Civil Rights Institute Inland Southern California - ECPv6.15.20//NONSGML v1.0//EN
CALSCALE:GREGORIAN
METHOD:PUBLISH
X-ORIGINAL-URL:https://www.inlandcivilrights.org
X-WR-CALDESC:Events for Civil Rights Institute Inland Southern California
REFRESH-INTERVAL;VALUE=DURATION:PT1H
X-Robots-Tag:noindex
X-PUBLISHED-TTL:PT1H
BEGIN:VTIMEZONE
TZID:America/Los_Angeles
BEGIN:DAYLIGHT
TZOFFSETFROM:-0800
TZOFFSETTO:-0700
TZNAME:PDT
DTSTART:20240310T100000
END:DAYLIGHT
BEGIN:STANDARD
TZOFFSETFROM:-0700
TZOFFSETTO:-0800
TZNAME:PST
DTSTART:20241103T090000
END:STANDARD
BEGIN:DAYLIGHT
TZOFFSETFROM:-0800
TZOFFSETTO:-0700
TZNAME:PDT
DTSTART:20250309T100000
END:DAYLIGHT
BEGIN:STANDARD
TZOFFSETFROM:-0700
TZOFFSETTO:-0800
TZNAME:PST
DTSTART:20251102T090000
END:STANDARD
BEGIN:DAYLIGHT
TZOFFSETFROM:-0800
TZOFFSETTO:-0700
TZNAME:PDT
DTSTART:20260308T100000
END:DAYLIGHT
BEGIN:STANDARD
TZOFFSETFROM:-0700
TZOFFSETTO:-0800
TZNAME:PST
DTSTART:20261101T090000
END:STANDARD
END:VTIMEZONE
BEGIN:VEVENT
DTSTART;TZID=America/Los_Angeles:20250220T120000
DTEND;TZID=America/Los_Angeles:20250220T170000
DTSTAMP:20260421T024748
CREATED:20241007T081803Z
LAST-MODIFIED:20241007T081803Z
UID:10004032-1740052800-1740070800@www.inlandcivilrights.org
SUMMARY:Homegrown Heroes
DESCRIPTION:Homegrown Heroes is an exhibition exploring how we advance civil rights in our region. Visit the exhibition to learn from the experiences of some of Inland Southern California’s many civil rights leaders. \nTours and Exhibition: September 26\, 2024 – May 30\, 2025\nExhibition hours: Wednesday – Friday 12:00 p.m. to 5 p.m.\nGroup tours available: Complete this form \nMore Info
URL:https://www.inlandcivilrights.org/event/homegrown-heroes/2025-02-20/
LOCATION:Civil Rights Institute of Inland Southern California\, 3933 Mission Inn Ave.\, Suite 103\, Riverside\, CA\, 92501\, United States
CATEGORIES:Exhibition
ATTACH;FMTTYPE=image/jpeg:https://www.inlandcivilrights.org/wp-content/uploads/2024/10/HH-Opening-FB-copy-1.jpg
END:VEVENT
BEGIN:VEVENT
DTSTART;TZID=America/Los_Angeles:20250220T120000
DTEND;TZID=America/Los_Angeles:20250220T170000
DTSTAMP:20260421T024748
CREATED:20250531T185046Z
LAST-MODIFIED:20250602T061942Z
UID:10004324-1740052800-1740070800@www.inlandcivilrights.org
SUMMARY:Homegrown Heroes
DESCRIPTION:Homegrown Heroes is an exhibition exploring how we advance civil rights in our region. Visit the exhibition to learn from the experiences of some of Inland Southern California’s many civil rights leaders. \nTours and Exhibition: September 26\, 2024 – June 20\, 2025\nExhibition hours: Wednesday – Friday 12:00 p.m. to 5 p.m.\nGroup tours available: Complete this form \nMore Info
URL:https://www.inlandcivilrights.org/event/homegrown-heroes-2/2025-02-20/
LOCATION:Civil Rights Institute of Inland Southern California\, 3933 Mission Inn Ave.\, Suite 103\, Riverside\, CA\, 92501\, United States
CATEGORIES:Exhibition
ATTACH;FMTTYPE=image/jpeg:https://www.inlandcivilrights.org/wp-content/uploads/2024/10/HH-Opening-FB-copy-1.jpg
END:VEVENT
BEGIN:VEVENT
DTSTART;TZID=America/Los_Angeles:20250220T180000
DTEND;TZID=America/Los_Angeles:20250220T200000
DTSTAMP:20260421T024748
CREATED:20250129T174926Z
LAST-MODIFIED:20250129T174926Z
UID:10004086-1740074400-1740081600@www.inlandcivilrights.org
SUMMARY:Inlandia Institute Book Launch
DESCRIPTION:Inlandia Institute & Inlandia Books present… \nApartness: A Memoir in Essays and Poems\, by Judy Kronenfeld
URL:https://www.inlandcivilrights.org/event/inlandia-institute-book-launch/
LOCATION:Civil Rights Institute of Inland Southern California\, Bank of America Diversity Center\, 3933 Mission Inn Ave.\, Suite 102\, Riverside\, 92501
CATEGORIES:Community Events
ATTACH;FMTTYPE=image/jpeg:https://www.inlandcivilrights.org/wp-content/uploads/2025/01/Apartness-Launch-IG.jpg
GEO:33.9845289;-117.3763891
X-APPLE-STRUCTURED-LOCATION;VALUE=URI;X-ADDRESS=Civil Rights Institute of Inland Southern California Bank of America Diversity Center 3933 Mission Inn Ave. Suite 102 Riverside 92501;X-APPLE-RADIUS=500;X-TITLE=3933 Mission Inn Ave.\, Suite 102:geo:-117.3763891,33.9845289
END:VEVENT
END:VCALENDAR