BEGIN:VCALENDAR
VERSION:2.0
PRODID:-//Civil Rights Institute Inland Southern California - ECPv6.15.20//NONSGML v1.0//EN
CALSCALE:GREGORIAN
METHOD:PUBLISH
X-WR-CALNAME:Civil Rights Institute Inland Southern California
X-ORIGINAL-URL:https://www.inlandcivilrights.org
X-WR-CALDESC:Events for Civil Rights Institute Inland Southern California
REFRESH-INTERVAL;VALUE=DURATION:PT1H
X-Robots-Tag:noindex
X-PUBLISHED-TTL:PT1H
BEGIN:VTIMEZONE
TZID:America/Los_Angeles
BEGIN:DAYLIGHT
TZOFFSETFROM:-0800
TZOFFSETTO:-0700
TZNAME:PDT
DTSTART:20240310T100000
END:DAYLIGHT
BEGIN:STANDARD
TZOFFSETFROM:-0700
TZOFFSETTO:-0800
TZNAME:PST
DTSTART:20241103T090000
END:STANDARD
BEGIN:DAYLIGHT
TZOFFSETFROM:-0800
TZOFFSETTO:-0700
TZNAME:PDT
DTSTART:20250309T100000
END:DAYLIGHT
BEGIN:STANDARD
TZOFFSETFROM:-0700
TZOFFSETTO:-0800
TZNAME:PST
DTSTART:20251102T090000
END:STANDARD
BEGIN:DAYLIGHT
TZOFFSETFROM:-0800
TZOFFSETTO:-0700
TZNAME:PDT
DTSTART:20260308T100000
END:DAYLIGHT
BEGIN:STANDARD
TZOFFSETFROM:-0700
TZOFFSETTO:-0800
TZNAME:PST
DTSTART:20261101T090000
END:STANDARD
END:VTIMEZONE
BEGIN:VEVENT
DTSTART;TZID=America/Los_Angeles:20250225T180000
DTEND;TZID=America/Los_Angeles:20250225T193000
DTSTAMP:20260421T031022
CREATED:20250127T214920Z
LAST-MODIFIED:20250211T211426Z
UID:10004085-1740506400-1740511800@www.inlandcivilrights.org
SUMMARY:Seeking Justice: An Panel Discussion - Workers Rights
DESCRIPTION:A Panel Discussion on Workers Rights \nModerator:\nDiane Roth\nAward winning retired public and private employment lawyer. \nPanel:\nMindy Acevedo\nStaff Attorney\, organizer\, former artist\, Yale & UCLA alumni \nGlenn Rothner\nRothner\, Segall & Greenstone co-founder\, Union Attorney\, UFW Alumni \nDoors open at 5:30 pm\nLight Refreshments will be served. \nIn-person event and Zoom link for those who can not attend:\nRSVP via Eventbrite: https://bit.ly/3WD1FP8\nZoom Link: https://bit.ly/4junZEF
URL:https://www.inlandcivilrights.org/event/seeking-justice-an-panel-discussion-workers-rights/
LOCATION:Civil Rights Institute of Inland Southern California\, Bank of America Diversity Center\, 3933 Mission Inn Ave.\, Suite 102\, Riverside\, 92501
CATEGORIES:Community Events
ATTACH;FMTTYPE=image/png:https://www.inlandcivilrights.org/wp-content/uploads/2025/01/Updated-Seeking-Justice-Graphic.png
GEO:33.9845289;-117.3763891
X-APPLE-STRUCTURED-LOCATION;VALUE=URI;X-ADDRESS=Civil Rights Institute of Inland Southern California Bank of America Diversity Center 3933 Mission Inn Ave. Suite 102 Riverside 92501;X-APPLE-RADIUS=500;X-TITLE=3933 Mission Inn Ave.\, Suite 102:geo:-117.3763891,33.9845289
END:VEVENT
END:VCALENDAR