BEGIN:VCALENDAR
VERSION:2.0
PRODID:-//Civil Rights Institute Inland Southern California - ECPv6.15.20//NONSGML v1.0//EN
CALSCALE:GREGORIAN
METHOD:PUBLISH
X-ORIGINAL-URL:https://www.inlandcivilrights.org
X-WR-CALDESC:Events for Civil Rights Institute Inland Southern California
REFRESH-INTERVAL;VALUE=DURATION:PT1H
X-Robots-Tag:noindex
X-PUBLISHED-TTL:PT1H
BEGIN:VTIMEZONE
TZID:America/Los_Angeles
BEGIN:DAYLIGHT
TZOFFSETFROM:-0800
TZOFFSETTO:-0700
TZNAME:PDT
DTSTART:20240310T100000
END:DAYLIGHT
BEGIN:STANDARD
TZOFFSETFROM:-0700
TZOFFSETTO:-0800
TZNAME:PST
DTSTART:20241103T090000
END:STANDARD
BEGIN:DAYLIGHT
TZOFFSETFROM:-0800
TZOFFSETTO:-0700
TZNAME:PDT
DTSTART:20250309T100000
END:DAYLIGHT
BEGIN:STANDARD
TZOFFSETFROM:-0700
TZOFFSETTO:-0800
TZNAME:PST
DTSTART:20251102T090000
END:STANDARD
BEGIN:DAYLIGHT
TZOFFSETFROM:-0800
TZOFFSETTO:-0700
TZNAME:PDT
DTSTART:20260308T100000
END:DAYLIGHT
BEGIN:STANDARD
TZOFFSETFROM:-0700
TZOFFSETTO:-0800
TZNAME:PST
DTSTART:20261101T090000
END:STANDARD
END:VTIMEZONE
BEGIN:VEVENT
DTSTART;TZID=America/Los_Angeles:20250301T180000
DTEND;TZID=America/Los_Angeles:20250301T220000
DTSTAMP:20260421T031340
CREATED:20250205T171122Z
LAST-MODIFIED:20250210T170159Z
UID:10004087-1740852000-1740866400@www.inlandcivilrights.org
SUMMARY:Lucha Vida IE presents "LUCHA: A Wrestling Tale"
DESCRIPTION:Experience the inspiring story of four high school girls navigating the challenges of inner-city life while learning to wrestle both on and off the mat.
URL:https://www.inlandcivilrights.org/event/lucha-vida-ie-presents-lucha-a-wrestling-tale/
LOCATION:Civil Rights Institute of Inland Southern California\, Bank of America Diversity Center\, 3933 Mission Inn Ave.\, Suite 102\, Riverside\, 92501
CATEGORIES:Community Events
ATTACH;FMTTYPE=image/png:https://www.inlandcivilrights.org/wp-content/uploads/2025/02/Civil-Rights-Institute-Screening-10x10-1.png
GEO:33.9845289;-117.3763891
X-APPLE-STRUCTURED-LOCATION;VALUE=URI;X-ADDRESS=Civil Rights Institute of Inland Southern California Bank of America Diversity Center 3933 Mission Inn Ave. Suite 102 Riverside 92501;X-APPLE-RADIUS=500;X-TITLE=3933 Mission Inn Ave.\, Suite 102:geo:-117.3763891,33.9845289
END:VEVENT
END:VCALENDAR