BEGIN:VCALENDAR
VERSION:2.0
PRODID:-//Civil Rights Institute Inland Southern California - ECPv6.15.20//NONSGML v1.0//EN
CALSCALE:GREGORIAN
METHOD:PUBLISH
X-ORIGINAL-URL:https://www.inlandcivilrights.org
X-WR-CALDESC:Events for Civil Rights Institute Inland Southern California
REFRESH-INTERVAL;VALUE=DURATION:PT1H
X-Robots-Tag:noindex
X-PUBLISHED-TTL:PT1H
BEGIN:VTIMEZONE
TZID:America/Los_Angeles
BEGIN:DAYLIGHT
TZOFFSETFROM:-0800
TZOFFSETTO:-0700
TZNAME:PDT
DTSTART:20240310T100000
END:DAYLIGHT
BEGIN:STANDARD
TZOFFSETFROM:-0700
TZOFFSETTO:-0800
TZNAME:PST
DTSTART:20241103T090000
END:STANDARD
BEGIN:DAYLIGHT
TZOFFSETFROM:-0800
TZOFFSETTO:-0700
TZNAME:PDT
DTSTART:20250309T100000
END:DAYLIGHT
BEGIN:STANDARD
TZOFFSETFROM:-0700
TZOFFSETTO:-0800
TZNAME:PST
DTSTART:20251102T090000
END:STANDARD
BEGIN:DAYLIGHT
TZOFFSETFROM:-0800
TZOFFSETTO:-0700
TZNAME:PDT
DTSTART:20260308T100000
END:DAYLIGHT
BEGIN:STANDARD
TZOFFSETFROM:-0700
TZOFFSETTO:-0800
TZNAME:PST
DTSTART:20261101T090000
END:STANDARD
END:VTIMEZONE
BEGIN:VEVENT
DTSTART;TZID=America/Los_Angeles:20250313T120000
DTEND;TZID=America/Los_Angeles:20250313T170000
DTSTAMP:20260421T143052
CREATED:20241007T081803Z
LAST-MODIFIED:20241007T081803Z
UID:10004041-1741867200-1741885200@www.inlandcivilrights.org
SUMMARY:Homegrown Heroes
DESCRIPTION:Homegrown Heroes is an exhibition exploring how we advance civil rights in our region. Visit the exhibition to learn from the experiences of some of Inland Southern California’s many civil rights leaders. \nTours and Exhibition: September 26\, 2024 – May 30\, 2025\nExhibition hours: Wednesday – Friday 12:00 p.m. to 5 p.m.\nGroup tours available: Complete this form \nMore Info
URL:https://www.inlandcivilrights.org/event/homegrown-heroes/2025-03-13/
LOCATION:Civil Rights Institute of Inland Southern California\, 3933 Mission Inn Ave.\, Suite 103\, Riverside\, CA\, 92501\, United States
CATEGORIES:Exhibition
ATTACH;FMTTYPE=image/jpeg:https://www.inlandcivilrights.org/wp-content/uploads/2024/10/HH-Opening-FB-copy-1.jpg
END:VEVENT
BEGIN:VEVENT
DTSTART;TZID=America/Los_Angeles:20250313T120000
DTEND;TZID=America/Los_Angeles:20250313T170000
DTSTAMP:20260421T143053
CREATED:20250531T185046Z
LAST-MODIFIED:20250602T061942Z
UID:10004333-1741867200-1741885200@www.inlandcivilrights.org
SUMMARY:Homegrown Heroes
DESCRIPTION:Homegrown Heroes is an exhibition exploring how we advance civil rights in our region. Visit the exhibition to learn from the experiences of some of Inland Southern California’s many civil rights leaders. \nTours and Exhibition: September 26\, 2024 – June 20\, 2025\nExhibition hours: Wednesday – Friday 12:00 p.m. to 5 p.m.\nGroup tours available: Complete this form \nMore Info
URL:https://www.inlandcivilrights.org/event/homegrown-heroes-2/2025-03-13/
LOCATION:Civil Rights Institute of Inland Southern California\, 3933 Mission Inn Ave.\, Suite 103\, Riverside\, CA\, 92501\, United States
CATEGORIES:Exhibition
ATTACH;FMTTYPE=image/jpeg:https://www.inlandcivilrights.org/wp-content/uploads/2024/10/HH-Opening-FB-copy-1.jpg
END:VEVENT
BEGIN:VEVENT
DTSTART;TZID=America/Los_Angeles:20250313T180000
DTEND;TZID=America/Los_Angeles:20250313T200000
DTSTAMP:20260421T143053
CREATED:20250303T214752Z
LAST-MODIFIED:20250303T214754Z
UID:10004093-1741888800-1741896000@www.inlandcivilrights.org
SUMMARY:Mind the Gender Gap Panel Discussion
DESCRIPTION:Panelist: \nRachael A. Dzikonski – Executive Director\, Riverside Arts Council \nNicole Green Hodges – Arts Professor\, DEI Director RAC\, Business Owner \nDrew Oberjuerge – Executive Director\, Riverside Art Museum \nBarbara Simpson-Lara – Artist and Filmaker \nModerated by: \nMindy Griffith – Artist \nA special pre-recorded message from: \nLana Negrete – Mayor of Santa Monica\, CA Owner of: Outreach Through the Arts\, Santa Monica Music Center & Culver City Music Center
URL:https://www.inlandcivilrights.org/event/mind-the-gender-gap-panel-discussion/
CATEGORIES:Community Events
ATTACH;FMTTYPE=image/png:https://www.inlandcivilrights.org/wp-content/uploads/2025/03/Panel-1080x1080-1.png
END:VEVENT
END:VCALENDAR