BEGIN:VCALENDAR
VERSION:2.0
PRODID:-//Civil Rights Institute Inland Southern California - ECPv6.15.20//NONSGML v1.0//EN
CALSCALE:GREGORIAN
METHOD:PUBLISH
X-ORIGINAL-URL:https://www.inlandcivilrights.org
X-WR-CALDESC:Events for Civil Rights Institute Inland Southern California
REFRESH-INTERVAL;VALUE=DURATION:PT1H
X-Robots-Tag:noindex
X-PUBLISHED-TTL:PT1H
BEGIN:VTIMEZONE
TZID:America/Los_Angeles
BEGIN:DAYLIGHT
TZOFFSETFROM:-0800
TZOFFSETTO:-0700
TZNAME:PDT
DTSTART:20240310T100000
END:DAYLIGHT
BEGIN:STANDARD
TZOFFSETFROM:-0700
TZOFFSETTO:-0800
TZNAME:PST
DTSTART:20241103T090000
END:STANDARD
BEGIN:DAYLIGHT
TZOFFSETFROM:-0800
TZOFFSETTO:-0700
TZNAME:PDT
DTSTART:20250309T100000
END:DAYLIGHT
BEGIN:STANDARD
TZOFFSETFROM:-0700
TZOFFSETTO:-0800
TZNAME:PST
DTSTART:20251102T090000
END:STANDARD
BEGIN:DAYLIGHT
TZOFFSETFROM:-0800
TZOFFSETTO:-0700
TZNAME:PDT
DTSTART:20260308T100000
END:DAYLIGHT
BEGIN:STANDARD
TZOFFSETFROM:-0700
TZOFFSETTO:-0800
TZNAME:PST
DTSTART:20261101T090000
END:STANDARD
END:VTIMEZONE
BEGIN:VEVENT
DTSTART;TZID=America/Los_Angeles:20251003T120000
DTEND;TZID=America/Los_Angeles:20251003T170000
DTSTAMP:20260422T204240
CREATED:20250721T032350Z
LAST-MODIFIED:20251106T081531Z
UID:10004413-1759492800-1759510800@www.inlandcivilrights.org
SUMMARY:Building Our Region’s Korean Communities Exhibition
DESCRIPTION:‘Building Our Region’s Korean Communities’ exhibition expands on the traveling Pachappa Camp exhibition created by UCR’s Young Oak Kim Center’s to include a fuller regional experience for the audience. With this exhibition\, we celebrate the legacy of early Koreans in America by uncovering and preserving their stories for future generations.
URL:https://www.inlandcivilrights.org/event/building-our-regions-korean-communities-exhibition-opening-2/2025-10-03/
LOCATION:Civil Rights Institute of Inland Southern California\, 3933 Mission Inn Ave.\, Suite 103\, Riverside\, CA\, 92501\, United States
CATEGORIES:Exhibition
ATTACH;FMTTYPE=image/jpeg:https://www.inlandcivilrights.org/wp-content/uploads/2025/07/KoreanExhRegular-FB-copy.jpg
END:VEVENT
BEGIN:VEVENT
DTSTART;TZID=America/Los_Angeles:20251003T120000
DTEND;TZID=America/Los_Angeles:20251003T170000
DTSTAMP:20260422T204240
CREATED:20250818T162352Z
LAST-MODIFIED:20250820T164807Z
UID:10004447-1759492800-1759510800@www.inlandcivilrights.org
SUMMARY:Labor of Love: Our Power is Our People
DESCRIPTION:Starting September 3 come see the Inland Empire Labor Council’s Labor of Love pop up exhibition at the Civil Rights Institute of Inland Southern California. Labor of Love started years ago\, as an idea of the Inland Empire Labor Council to document the unique history of labor resistance in the Inland Empire by interviewing local labor leaders.
URL:https://www.inlandcivilrights.org/event/labor-of-love-our-power-is-our-people/2025-10-03/
LOCATION:Civil Rights Institute of Inland Southern California\, Bank of America Diversity Center\, 3933 Mission Inn Ave.\, Suite 102\, Riverside\, 92501
CATEGORIES:Pop Up Exhibits
ATTACH;FMTTYPE=image/jpeg:https://www.inlandcivilrights.org/wp-content/uploads/2025/08/UPDATED-IG-Post-Civ-Rights.jpg
GEO:33.9845289;-117.3763891
X-APPLE-STRUCTURED-LOCATION;VALUE=URI;X-ADDRESS=Civil Rights Institute of Inland Southern California Bank of America Diversity Center 3933 Mission Inn Ave. Suite 102 Riverside 92501;X-APPLE-RADIUS=500;X-TITLE=3933 Mission Inn Ave.\, Suite 102:geo:-117.3763891,33.9845289
END:VEVENT
END:VCALENDAR