BEGIN:VCALENDAR
VERSION:2.0
PRODID:-//Civil Rights Institute Inland Southern California - ECPv6.15.20//NONSGML v1.0//EN
CALSCALE:GREGORIAN
METHOD:PUBLISH
X-ORIGINAL-URL:https://www.inlandcivilrights.org
X-WR-CALDESC:Events for Civil Rights Institute Inland Southern California
REFRESH-INTERVAL;VALUE=DURATION:PT1H
X-Robots-Tag:noindex
X-PUBLISHED-TTL:PT1H
BEGIN:VTIMEZONE
TZID:America/Los_Angeles
BEGIN:DAYLIGHT
TZOFFSETFROM:-0800
TZOFFSETTO:-0700
TZNAME:PDT
DTSTART:20250309T100000
END:DAYLIGHT
BEGIN:STANDARD
TZOFFSETFROM:-0700
TZOFFSETTO:-0800
TZNAME:PST
DTSTART:20251102T090000
END:STANDARD
BEGIN:DAYLIGHT
TZOFFSETFROM:-0800
TZOFFSETTO:-0700
TZNAME:PDT
DTSTART:20260308T100000
END:DAYLIGHT
BEGIN:STANDARD
TZOFFSETFROM:-0700
TZOFFSETTO:-0800
TZNAME:PST
DTSTART:20261101T090000
END:STANDARD
BEGIN:DAYLIGHT
TZOFFSETFROM:-0800
TZOFFSETTO:-0700
TZNAME:PDT
DTSTART:20270314T100000
END:DAYLIGHT
BEGIN:STANDARD
TZOFFSETFROM:-0700
TZOFFSETTO:-0800
TZNAME:PST
DTSTART:20271107T090000
END:STANDARD
END:VTIMEZONE
BEGIN:VEVENT
DTSTART;TZID=America/Los_Angeles:20260327T183000
DTEND;TZID=America/Los_Angeles:20260327T220000
DTSTAMP:20260424T054347
CREATED:20260217T192936Z
LAST-MODIFIED:20260217T194643Z
UID:10006035-1774636200-1774648800@www.inlandcivilrights.org
SUMMARY:1946: The Mistranslation That Shifted Culture
DESCRIPTION:Small changes can create big impacts. Our next program examines how a single word helped shape decades of belief. Join us Friday\, March 27 from 6:30 PM to 9:30 PM for a screening of 1946: The Mistranslation that Shifted Culture followed by a panel discussion. This film\, first released in 2022\, explores how a specific mistranslation of the Bible in the 1940s inadvertently fueled the anti-LGBTQ+ movement in Christianity. Be a part of the bigger discussion by signing up here.
URL:https://www.inlandcivilrights.org/event/1946-the-mistranslation-that-shifted-culture/
CATEGORIES:Community Events,Programming
ATTACH;FMTTYPE=image/jpeg:https://www.inlandcivilrights.org/wp-content/uploads/2026/02/1946-1080-x-1080-px.jpg
END:VEVENT
BEGIN:VEVENT
DTSTART;TZID=America/Los_Angeles:20260328T133000
DTEND;TZID=America/Los_Angeles:20260328T160000
DTSTAMP:20260424T054347
CREATED:20260217T195253Z
LAST-MODIFIED:20260217T195258Z
UID:10006036-1774704600-1774713600@www.inlandcivilrights.org
SUMMARY:History of Section 14: Memory\, Justice\, and Community
DESCRIPTION:Stories of resilience deserve to be heard! Join us for a powerful conversation with survivors and descendants of the Palm Springs Section 14 demolition\, destruction\, and displacement. Moderated by Monet Warren and joined by panelists Betty Taylor Mayfield\, Deiter Crawford\, and Dr. Robert D. Jiles\, who will share stories of lived experiences\, attempts of erasure\, and the resilience of Black and Latinx communities whose narratives continue to shape our region.
URL:https://www.inlandcivilrights.org/event/history-of-section-14-memory-justice-and-community/
CATEGORIES:Community Events,Programming
ATTACH;FMTTYPE=image/png:https://www.inlandcivilrights.org/wp-content/uploads/2026/02/Instagram-Post-Size-29.png
END:VEVENT
BEGIN:VEVENT
DTSTART;TZID=America/Los_Angeles:20260331T110000
DTEND;TZID=America/Los_Angeles:20260331T140000
DTSTAMP:20260424T054347
CREATED:20260331T000910Z
LAST-MODIFIED:20260331T000912Z
UID:10006038-1774954800-1774965600@www.inlandcivilrights.org
SUMMARY:United Farmworkers Day
DESCRIPTION:Special open hours! In recognition of Farmworker Day\, CRIISC will be open on Tuesday\, March 31\, from 11 AM – 2 PM!\nStop by to view our FREE exhibition Out in the l.E.\, which honors the LGBTQ+ community’s impact in Riverside and San Bernardino counties! Take a FREE tour\, have some fun with our interactive scavenger hunt\, and create artwork inspired by farmworkers in our kids’ craft corner.\nNOW is your chance to come and learn some I.E. history.\nSee you soon!
URL:https://www.inlandcivilrights.org/event/united-farmworkers-day/
LOCATION:Civil Rights Institute of Inland Southern California\, 3933 Mission Inn Ave.\, Suite 103\, Riverside\, CA\, 92501\, United States
CATEGORIES:Community Events,Exhibition,Programming
ATTACH;FMTTYPE=image/png:https://www.inlandcivilrights.org/wp-content/uploads/2026/03/Laborers-Farmworker-Recignition-Graphic.png
END:VEVENT
END:VCALENDAR