BEGIN:VCALENDAR
VERSION:2.0
PRODID:-//Civil Rights Institute Inland Southern California - ECPv6.15.20//NONSGML v1.0//EN
CALSCALE:GREGORIAN
METHOD:PUBLISH
X-ORIGINAL-URL:https://www.inlandcivilrights.org
X-WR-CALDESC:Events for Civil Rights Institute Inland Southern California
REFRESH-INTERVAL;VALUE=DURATION:PT1H
X-Robots-Tag:noindex
X-PUBLISHED-TTL:PT1H
BEGIN:VTIMEZONE
TZID:America/Los_Angeles
BEGIN:DAYLIGHT
TZOFFSETFROM:-0800
TZOFFSETTO:-0700
TZNAME:PDT
DTSTART:20250309T100000
END:DAYLIGHT
BEGIN:STANDARD
TZOFFSETFROM:-0700
TZOFFSETTO:-0800
TZNAME:PST
DTSTART:20251102T090000
END:STANDARD
BEGIN:DAYLIGHT
TZOFFSETFROM:-0800
TZOFFSETTO:-0700
TZNAME:PDT
DTSTART:20260308T100000
END:DAYLIGHT
BEGIN:STANDARD
TZOFFSETFROM:-0700
TZOFFSETTO:-0800
TZNAME:PST
DTSTART:20261101T090000
END:STANDARD
BEGIN:DAYLIGHT
TZOFFSETFROM:-0800
TZOFFSETTO:-0700
TZNAME:PDT
DTSTART:20270314T100000
END:DAYLIGHT
BEGIN:STANDARD
TZOFFSETFROM:-0700
TZOFFSETTO:-0800
TZNAME:PST
DTSTART:20271107T090000
END:STANDARD
END:VTIMEZONE
BEGIN:VEVENT
DTSTART;TZID=America/Los_Angeles:20260201T130000
DTEND;TZID=America/Los_Angeles:20260201T160000
DTSTAMP:20260424T084902
CREATED:20260108T053632Z
LAST-MODIFIED:20260108T170950Z
UID:10005245-1769950800-1769961600@www.inlandcivilrights.org
SUMMARY:Fabric of Us: Textile Arts and Queer Identity
DESCRIPTION:CRIISC is excited to partner with artist Yulissa Mendoza and The Cheech Center for Chicano Art & Culture of the Riverside Art Museum for Fabric of Us: Textile Art and Queer Identity Workshop. Join us for an afternoon of creativity and conversation as we sit down with Yulissa to explore their artistic journey\, inspirations\, and the themes that shape their work\,~ followed by a hands-on textile art workshop. Come get inspired\, connect\, and create alongside a local I.E. artist. We can’t wait to see you!
URL:https://www.inlandcivilrights.org/event/fabric-of-us-textile-arts-and-queer-identity/
LOCATION:Civil Rights Institute of Inland Southern California\, Bank of America Diversity Center\, 3933 Mission Inn Ave.\, Suite 102\, Riverside\, 92501
CATEGORIES:Community Events,Exhibition,Programming
ATTACH;FMTTYPE=image/png:https://www.inlandcivilrights.org/wp-content/uploads/2026/01/Instagram-Post-Size-27.png
GEO:33.9845289;-117.3763891
X-APPLE-STRUCTURED-LOCATION;VALUE=URI;X-ADDRESS=Civil Rights Institute of Inland Southern California Bank of America Diversity Center 3933 Mission Inn Ave. Suite 102 Riverside 92501;X-APPLE-RADIUS=500;X-TITLE=3933 Mission Inn Ave.\, Suite 102:geo:-117.3763891,33.9845289
END:VEVENT
END:VCALENDAR