BEGIN:VCALENDAR
VERSION:2.0
PRODID:-//Civil Rights Institute Inland Southern California - ECPv6.15.20//NONSGML v1.0//EN
CALSCALE:GREGORIAN
METHOD:PUBLISH
X-ORIGINAL-URL:https://www.inlandcivilrights.org
X-WR-CALDESC:Events for Civil Rights Institute Inland Southern California
REFRESH-INTERVAL;VALUE=DURATION:PT1H
X-Robots-Tag:noindex
X-PUBLISHED-TTL:PT1H
BEGIN:VTIMEZONE
TZID:America/Los_Angeles
BEGIN:DAYLIGHT
TZOFFSETFROM:-0800
TZOFFSETTO:-0700
TZNAME:PDT
DTSTART:20250309T100000
END:DAYLIGHT
BEGIN:STANDARD
TZOFFSETFROM:-0700
TZOFFSETTO:-0800
TZNAME:PST
DTSTART:20251102T090000
END:STANDARD
BEGIN:DAYLIGHT
TZOFFSETFROM:-0800
TZOFFSETTO:-0700
TZNAME:PDT
DTSTART:20260308T100000
END:DAYLIGHT
BEGIN:STANDARD
TZOFFSETFROM:-0700
TZOFFSETTO:-0800
TZNAME:PST
DTSTART:20261101T090000
END:STANDARD
BEGIN:DAYLIGHT
TZOFFSETFROM:-0800
TZOFFSETTO:-0700
TZNAME:PDT
DTSTART:20270314T100000
END:DAYLIGHT
BEGIN:STANDARD
TZOFFSETFROM:-0700
TZOFFSETTO:-0800
TZNAME:PST
DTSTART:20271107T090000
END:STANDARD
END:VTIMEZONE
BEGIN:VEVENT
DTSTART;TZID=America/Los_Angeles:20260328T133000
DTEND;TZID=America/Los_Angeles:20260328T160000
DTSTAMP:20260424T070254
CREATED:20260217T195253Z
LAST-MODIFIED:20260217T195258Z
UID:10006036-1774704600-1774713600@www.inlandcivilrights.org
SUMMARY:History of Section 14: Memory\, Justice\, and Community
DESCRIPTION:Stories of resilience deserve to be heard! Join us for a powerful conversation with survivors and descendants of the Palm Springs Section 14 demolition\, destruction\, and displacement. Moderated by Monet Warren and joined by panelists Betty Taylor Mayfield\, Deiter Crawford\, and Dr. Robert D. Jiles\, who will share stories of lived experiences\, attempts of erasure\, and the resilience of Black and Latinx communities whose narratives continue to shape our region.
URL:https://www.inlandcivilrights.org/event/history-of-section-14-memory-justice-and-community/
CATEGORIES:Community Events,Programming
ATTACH;FMTTYPE=image/png:https://www.inlandcivilrights.org/wp-content/uploads/2026/02/Instagram-Post-Size-29.png
END:VEVENT
END:VCALENDAR