BEGIN:VCALENDAR
VERSION:2.0
PRODID:-//Civil Rights Institute Inland Southern California - ECPv6.15.20//NONSGML v1.0//EN
CALSCALE:GREGORIAN
METHOD:PUBLISH
X-WR-CALNAME:Civil Rights Institute Inland Southern California
X-ORIGINAL-URL:https://www.inlandcivilrights.org
X-WR-CALDESC:Events for Civil Rights Institute Inland Southern California
REFRESH-INTERVAL;VALUE=DURATION:PT1H
X-Robots-Tag:noindex
X-PUBLISHED-TTL:PT1H
BEGIN:VTIMEZONE
TZID:America/Los_Angeles
BEGIN:DAYLIGHT
TZOFFSETFROM:-0800
TZOFFSETTO:-0700
TZNAME:PDT
DTSTART:20250309T100000
END:DAYLIGHT
BEGIN:STANDARD
TZOFFSETFROM:-0700
TZOFFSETTO:-0800
TZNAME:PST
DTSTART:20251102T090000
END:STANDARD
BEGIN:DAYLIGHT
TZOFFSETFROM:-0800
TZOFFSETTO:-0700
TZNAME:PDT
DTSTART:20260308T100000
END:DAYLIGHT
BEGIN:STANDARD
TZOFFSETFROM:-0700
TZOFFSETTO:-0800
TZNAME:PST
DTSTART:20261101T090000
END:STANDARD
BEGIN:DAYLIGHT
TZOFFSETFROM:-0800
TZOFFSETTO:-0700
TZNAME:PDT
DTSTART:20270314T100000
END:DAYLIGHT
BEGIN:STANDARD
TZOFFSETFROM:-0700
TZOFFSETTO:-0800
TZNAME:PST
DTSTART:20271107T090000
END:STANDARD
END:VTIMEZONE
BEGIN:VEVENT
DTSTART;TZID=America/Los_Angeles:20260127T170000
DTEND;TZID=America/Los_Angeles:20260127T190000
DTSTAMP:20260424T051947
CREATED:20260123T183542Z
LAST-MODIFIED:20260123T183544Z
UID:10005434-1769533200-1769540400@www.inlandcivilrights.org
SUMMARY:Listening to Heal: Our Stories\, Our Strength
DESCRIPTION:Looking for a space to feel seen and heard? Join Dr. Anthony Jerry and Dr. Niedha Welch on Tuesday\, January 27 from 5 PM – 7 PM during Listening to Heal: Our Stories\, Our Strengths for an evening of storytelling\, resilience\, and renewal in a safe and sacred space. Listen to the mental health stories of members of the community\, gain a deeper understanding on how to listen\, and strengthen your compassion for others. Don’t miss this opportunity to connect with the community\, sign up here to heal together.
URL:https://www.inlandcivilrights.org/event/listening-to-heal-our-stories-our-strength/
LOCATION:Civil Rights Institute of Inland Southern California\, 3933 Mission Inn Ave.\, Suite 103\, Riverside\, CA\, 92501\, United States
CATEGORIES:Community Events,Exhibition,Programming
ATTACH;FMTTYPE=image/png:https://www.inlandcivilrights.org/wp-content/uploads/2026/01/1768325497165-77ae4d22-9c13-4ff9-a4e6-1104f8db7396_1.png
END:VEVENT
END:VCALENDAR