BEGIN:VCALENDAR
VERSION:2.0
PRODID:-//Civil Rights Institute Inland Southern California - ECPv6.15.17.1//NONSGML v1.0//EN
CALSCALE:GREGORIAN
METHOD:PUBLISH
X-ORIGINAL-URL:https://www.inlandcivilrights.org
X-WR-CALDESC:Events for Civil Rights Institute Inland Southern California
REFRESH-INTERVAL;VALUE=DURATION:PT1H
X-Robots-Tag:noindex
X-PUBLISHED-TTL:PT1H
BEGIN:VTIMEZONE
TZID:America/Los_Angeles
BEGIN:DAYLIGHT
TZOFFSETFROM:-0800
TZOFFSETTO:-0700
TZNAME:PDT
DTSTART:20220313T100000
END:DAYLIGHT
BEGIN:STANDARD
TZOFFSETFROM:-0700
TZOFFSETTO:-0800
TZNAME:PST
DTSTART:20221106T090000
END:STANDARD
BEGIN:DAYLIGHT
TZOFFSETFROM:-0800
TZOFFSETTO:-0700
TZNAME:PDT
DTSTART:20230312T100000
END:DAYLIGHT
BEGIN:STANDARD
TZOFFSETFROM:-0700
TZOFFSETTO:-0800
TZNAME:PST
DTSTART:20231105T090000
END:STANDARD
BEGIN:DAYLIGHT
TZOFFSETFROM:-0800
TZOFFSETTO:-0700
TZNAME:PDT
DTSTART:20240310T100000
END:DAYLIGHT
BEGIN:STANDARD
TZOFFSETFROM:-0700
TZOFFSETTO:-0800
TZNAME:PST
DTSTART:20241103T090000
END:STANDARD
END:VTIMEZONE
BEGIN:VEVENT
DTSTART;TZID=America/Los_Angeles:20231020T180000
DTEND;TZID=America/Los_Angeles:20231020T200000
DTSTAMP:20260419T065834
CREATED:20231008T074618Z
LAST-MODIFIED:20231008T075111Z
UID:10002037-1697824800-1697832000@www.inlandcivilrights.org
SUMMARY:Creating an Engaged Community
DESCRIPTION:Brought to you by: Latino Network\, Civil Rights Institute Inland Southern California\, Riverside African American Historical Society\, Inc.\, Riverside Interfaith Council and UNIDOS FOR LA CAUSA. \nJoin us for a fun-filled day at the Civil Rights Institute Inland Southern California in Riverside. Our festival aims to bring people together and foster a sense of community engagement. Get ready for a day of wonderful music\, inspiring talks\, and light refreshments. Whether you’re passionate about social justice\, environmental issues\, or simply want to connect with like-minded individuals\, this event is for you. Come and be a part of our vibrant community as we work towards creating a more inclusive and empowered society. Mark your calendars and don’t miss out on this incredible opportunity! \nDownload Flyer
URL:https://www.inlandcivilrights.org/event/creating-an-engaged-community/
LOCATION:Civil Rights Institute of Inland Southern California\, Bank of America Diversity Center\, 3933 Mission Inn Ave.\, Suite 102\, Riverside\, 92501
CATEGORIES:Community Events
ATTACH;FMTTYPE=image/png:https://www.inlandcivilrights.org/wp-content/uploads/2023/09/image-2.png
GEO:33.9845289;-117.3763891
X-APPLE-STRUCTURED-LOCATION;VALUE=URI;X-ADDRESS=Civil Rights Institute of Inland Southern California Bank of America Diversity Center 3933 Mission Inn Ave. Suite 102 Riverside 92501;X-APPLE-RADIUS=500;X-TITLE=3933 Mission Inn Ave.\, Suite 102:geo:-117.3763891,33.9845289
END:VEVENT
END:VCALENDAR