BEGIN:VCALENDAR
VERSION:2.0
PRODID:-//Civil Rights Institute Inland Southern California - ECPv6.15.20//NONSGML v1.0//EN
CALSCALE:GREGORIAN
METHOD:PUBLISH
X-WR-CALNAME:Civil Rights Institute Inland Southern California
X-ORIGINAL-URL:https://www.inlandcivilrights.org
X-WR-CALDESC:Events for Civil Rights Institute Inland Southern California
REFRESH-INTERVAL;VALUE=DURATION:PT1H
X-Robots-Tag:noindex
X-PUBLISHED-TTL:PT1H
BEGIN:VTIMEZONE
TZID:America/Los_Angeles
BEGIN:DAYLIGHT
TZOFFSETFROM:-0800
TZOFFSETTO:-0700
TZNAME:PDT
DTSTART:20160313T100000
END:DAYLIGHT
BEGIN:STANDARD
TZOFFSETFROM:-0700
TZOFFSETTO:-0800
TZNAME:PST
DTSTART:20161106T090000
END:STANDARD
BEGIN:DAYLIGHT
TZOFFSETFROM:-0800
TZOFFSETTO:-0700
TZNAME:PDT
DTSTART:20170312T100000
END:DAYLIGHT
BEGIN:STANDARD
TZOFFSETFROM:-0700
TZOFFSETTO:-0800
TZNAME:PST
DTSTART:20171105T090000
END:STANDARD
BEGIN:DAYLIGHT
TZOFFSETFROM:-0800
TZOFFSETTO:-0700
TZNAME:PDT
DTSTART:20180311T100000
END:DAYLIGHT
BEGIN:STANDARD
TZOFFSETFROM:-0700
TZOFFSETTO:-0800
TZNAME:PST
DTSTART:20181104T090000
END:STANDARD
BEGIN:DAYLIGHT
TZOFFSETFROM:-0800
TZOFFSETTO:-0700
TZNAME:PDT
DTSTART:20190310T100000
END:DAYLIGHT
BEGIN:STANDARD
TZOFFSETFROM:-0700
TZOFFSETTO:-0800
TZNAME:PST
DTSTART:20191103T090000
END:STANDARD
BEGIN:DAYLIGHT
TZOFFSETFROM:-0800
TZOFFSETTO:-0700
TZNAME:PDT
DTSTART:20200308T100000
END:DAYLIGHT
BEGIN:STANDARD
TZOFFSETFROM:-0700
TZOFFSETTO:-0800
TZNAME:PST
DTSTART:20201101T090000
END:STANDARD
BEGIN:DAYLIGHT
TZOFFSETFROM:-0800
TZOFFSETTO:-0700
TZNAME:PDT
DTSTART:20210314T100000
END:DAYLIGHT
BEGIN:STANDARD
TZOFFSETFROM:-0700
TZOFFSETTO:-0800
TZNAME:PST
DTSTART:20211107T090000
END:STANDARD
BEGIN:DAYLIGHT
TZOFFSETFROM:-0800
TZOFFSETTO:-0700
TZNAME:PDT
DTSTART:20220313T100000
END:DAYLIGHT
BEGIN:STANDARD
TZOFFSETFROM:-0700
TZOFFSETTO:-0800
TZNAME:PST
DTSTART:20221106T090000
END:STANDARD
BEGIN:DAYLIGHT
TZOFFSETFROM:-0800
TZOFFSETTO:-0700
TZNAME:PDT
DTSTART:20230312T100000
END:DAYLIGHT
BEGIN:STANDARD
TZOFFSETFROM:-0700
TZOFFSETTO:-0800
TZNAME:PST
DTSTART:20231105T090000
END:STANDARD
END:VTIMEZONE
BEGIN:VTIMEZONE
TZID:UTC
BEGIN:STANDARD
TZOFFSETFROM:+0000
TZOFFSETTO:+0000
TZNAME:UTC
DTSTART:20170101T000000
END:STANDARD
END:VTIMEZONE
BEGIN:VEVENT
DTSTART;TZID=America/Los_Angeles:20221022T170000
DTEND;TZID=America/Los_Angeles:20221022T213000
DTSTAMP:20260424T151104
CREATED:20220719T051849Z
LAST-MODIFIED:20221009T053103Z
UID:10000057-1666458000-1666474200@www.inlandcivilrights.org
SUMMARY:Opening Ceremony
DESCRIPTION:Civil Rights Institute of Inland Southern California Opening Ceremony \nOutdoor Live Entertainment \nHonoring Inland Empire Civil Rights History-Makers and Unsung Heroes \nCelebrating New Affordable Housing for 72 Families \nOpening Exhibit of ‘Still I Rise: The Black IE Fight for Justice’ \nDedication of the Jose Medina Atrium \nDownload Event Flyer \nLearn More and Register
URL:https://www.inlandcivilrights.org/event/opening-ceremony/
LOCATION:Mission Heritage Plaza\, 3933 Mission Inn Avenue\, Riverside\, CA\, 92501\, United States
CATEGORIES:Opening Ceremony
ATTACH;FMTTYPE=image/png:https://www.inlandcivilrights.org/wp-content/uploads/2022/10/Opening-Celebration-Graphic-01.png
ORGANIZER;CN="Inland Civil Rights":MAILTO:info@inlandcivilrights.org
END:VEVENT
BEGIN:VEVENT
DTSTART;TZID=America/Los_Angeles:20220930T200000
DTEND;TZID=America/Los_Angeles:20220930T220000
DTSTAMP:20260424T151104
CREATED:20220904T010622Z
LAST-MODIFIED:20220904T011009Z
UID:10000058-1664568000-1664575200@www.inlandcivilrights.org
SUMMARY:Dreamscape
DESCRIPTION:Live Performance to Support the Mission of the Civil Rights Institute of Inland Southern Califorina \nDreamscape\nWritten and Directed by Rickerby Hinds \nThis hip-hop theater play uses spoken word\, beatboxing and dance to reimagine the night a 19-year old African American woman was shot by the police officers. Based on the story of Tyisha Miller. \nPost-Performance Conversation \n\nThe Honorable Cheryl Brown\nReverend Bernell Bulter\nProfessor Rickerby Hinds\nProfessor Deborah Wong\n\nDownload Flyer
URL:https://www.inlandcivilrights.org/event/dreamscape/
LOCATION:The Box\, 3635 Market Street\, Riverside\, CA\, 92501\, United States
CATEGORIES:Community Events
ATTACH;FMTTYPE=image/png:https://www.inlandcivilrights.org/wp-content/uploads/2022/08/Dreamscape-Eventbrite.png
ORGANIZER;CN="Inland Civil Rights":MAILTO:info@inlandcivilrights.org
END:VEVENT
BEGIN:VEVENT
DTSTART;TZID=America/Los_Angeles:20210726T150000
DTEND;TZID=America/Los_Angeles:20210726T170000
DTSTAMP:20260424T151104
CREATED:20210715T035627Z
LAST-MODIFIED:20210715T035627Z
UID:10000056-1627311600-1627318800@www.inlandcivilrights.org
SUMMARY:Listening Session: Grand Opening Celebration
DESCRIPTION:We want to hear from you!\n\n\n\n\n\nWith our community’s support\, we are on track to open the doors of the Civil Rights Institute of Inland Southern California — and 72 units of affordable housing — by Fall 2022. \nBefore we open our doors\, we need your help to envision our grand opening celebration. How should we commemorate this historic event? \nWe want to hear from you! \nWe are hosting a virtual Listening Session on Monday\, July 26\, from 3 p.m. to 5 p.m.\, where we will solicit your ideas\, suggestions\, and aspirations. \n\nOur Listening Session will be held on Zoom and is drop-in.\nPlease join when it is convenient\, and feel free to leave once you’ve had an opportunity to express your interest.
URL:https://www.inlandcivilrights.org/event/listening-session-grand-opening-celebration/
LOCATION:Virtual
CATEGORIES:Listening Session
ATTACH;FMTTYPE=image/png:https://www.inlandcivilrights.org/wp-content/uploads/2021/07/Listening-Session_Jyly-26-2021.png
ORGANIZER;CN="Inland Civil Rights":MAILTO:info@inlandcivilrights.org
END:VEVENT
BEGIN:VEVENT
DTSTART;VALUE=DATE:20201022
DTEND;VALUE=DATE:20201023
DTSTAMP:20260424T151104
CREATED:20201014T053013Z
LAST-MODIFIED:20201014T053206Z
UID:10000044-1603324800-1603411199@www.inlandcivilrights.org
SUMMARY:Community Groundbreaking
DESCRIPTION:Join us for a community groundbreaking on October 22\, 2020 \nThe groundbreaking ceremony will start with a Peace Walk across Downtown Riverside’s Main Street Pedestrian Mall. \nThe Peace Walk will start at the Martin Luther King Jr. Memorial in front of Riverside City Hall. We will make stops to commemorate the Cesar Chavez Memorial\, Dosan Ahn Chang Ho Memorial\, Mahatma Gandhi Memorial\, and Eliza Tibbets Memorial. \nThe Peace Walk will conclude with a physically-distanced groundbreaking ceremony at the future site of the Mission Heritage Plaza\, 3933 Mission Inn Ave. Riverside\, CA\, 92501. \nPublic health guidance will be observed \nGuests are required to wear face coverings and practice physical distancing to participate in the event. \nMore details provided with RSVP  \nIf you wish to attend\, please RSVP by calling the Fair Housing Council of Riverside County at (951) 682-6581. Capacity is limited in observance of public health guidance.
URL:https://www.inlandcivilrights.org/event/community-groundbreaking/
LOCATION:Mission Heritage Plaza\, 3933 Mission Inn Avenue\, Riverside\, CA\, 92501\, United States
CATEGORIES:Community Groundbreaking
ATTACH;FMTTYPE=image/jpeg:https://www.inlandcivilrights.org/wp-content/uploads/2020/10/CRIISC_Groundbreaking_Project-Web-Image.jpg
ORGANIZER;CN="Inland Civil Rights":MAILTO:info@inlandcivilrights.org
END:VEVENT
BEGIN:VEVENT
DTSTART;VALUE=DATE:20190530
DTEND;VALUE=DATE:20190531
DTSTAMP:20260424T151104
CREATED:20190516T030851Z
LAST-MODIFIED:20190521T135829Z
UID:10000030-1559174400-1559260799@www.inlandcivilrights.org
SUMMARY:Virtual Groundbreaking: Civil Rights Institute of Inland Southern California
DESCRIPTION:Save the Date—May 30\nSet aside about a minute and a half this coming Thursday\, May 30\, as the Civil Rights Institute of Inland Southern California breaks ground right here on this page. \nThe facility\, on the main floor of the Mission Heritage Plaza project\, includes the Bank of America Diversity Center conference facility\, the RAAHS Exhibit Center for changing civil rights exhibits\, and Altura Media Center for multimedia recording. \nWatch upcoming announcements on Facebook\, Twitter\, and Instagram for our six surprise VIP guests. \n“We decided to spare everyone the gold shovels and bad coffee\,” explained Civil Rights Institute Board President Ron Loveridge. “But we did want to give special guests a chance to celebrate the project with the public.” \nFind out who they are right here between now and the virtual groundbreaking May 30. \nIn addition to the Civil Rights Institute\, Mission Heritage Plaza is 72 units of affordable housing\, new offices for the Fair Housing Council of Riverside County located at the corner of Fairmount Boulevard and Mission Inn Avenue in Riverside California. \nFind out more about what’s planned for the Institute on our website at www.inlandcivilrights.org
URL:https://www.inlandcivilrights.org/event/virtual-groundbreaking/
LOCATION:Online
CATEGORIES:Virtual Groundbreaking
ATTACH;FMTTYPE=image/jpeg:https://www.inlandcivilrights.org/wp-content/uploads/2019/05/CRIVirtualGBfbHeader.jpg
ORGANIZER;CN="Inland Civil Rights":MAILTO:info@inlandcivilrights.org
END:VEVENT
BEGIN:VEVENT
DTSTART;TZID=UTC:20180227T183000
DTEND;TZID=UTC:20180227T183000
DTSTAMP:20260424T151104
CREATED:20180227T110402Z
LAST-MODIFIED:20180301T080234Z
UID:10000051-1519756200-1519756200@www.inlandcivilrights.org
SUMMARY:Special Announcement
DESCRIPTION:Exciting news coming from the City of Riverside\, Fair Housing Council of Riverside County and Bank of America at the Riverside City Council meeting! Join us or tune in to @InlandCivRhts’ Facebook LIVE at 6:30pm!  http://bit.ly/2F9EPbi
URL:https://www.inlandcivilrights.org/event/special-announcement/
LOCATION:Art Pick Council Chamber\, 3900 Main Street\, Riverside\, CA\, 92501\, United States
CATEGORIES:Facebook Live,Riverside City Council Meeting
ATTACH;FMTTYPE=image/jpeg:https://www.inlandcivilrights.org/wp-content/uploads/2018/02/Announcement-Coming-Soon.jpg
ORGANIZER;CN="Inland Civil Rights":MAILTO:info@inlandcivilrights.org
END:VEVENT
BEGIN:VEVENT
DTSTART;TZID=America/Los_Angeles:20171023T100000
DTEND;TZID=America/Los_Angeles:20171023T120000
DTSTAMP:20260424T151104
CREATED:20170928T154237Z
LAST-MODIFIED:20171012T124947Z
UID:10000048-1508752800-1508760000@www.inlandcivilrights.org
SUMMARY:Build a Home for the Civil Rights in Our Community
DESCRIPTION:Build a Home for Civil Rights in Our Community\nThe Board of Directors of the Civil Rights Institute of Inland Southern California and Wakeland Housing and Development Corporation cordially invite you to \nA kickoff event to Lay the Foundation for the Civil Rights Institute of Southern California the cornerstone of Mission Heritage Plaza\, a visionary new development that will bring new affordable housing\, offices for the Fair Housing Council of Riverside County\, and historical resources to downtown Riverside. \n\n\n\n\nMonday\, October 23\, 2017 \n 10 a.m. to noon\n 3933 Mission Inn Avenue (the site of the future Civil Rights Institute)\n Downtown Riverside \nFeatured Speakers:\nState Senator Richard Roth\, Assemblyman José Medina and Mayor Rusty Bailey \nDownload Event Flyer
URL:https://www.inlandcivilrights.org/event/build-a-home-for-the-civil-rights-in-our-community/
LOCATION:Fair Housing Council of Riverside County\, Inc.\, 3933 Mission Inn Avenue\, Riverside\, CA\, 92501\, United States
ATTACH;FMTTYPE=image/jpeg:https://www.inlandcivilrights.org/wp-content/uploads/2017/06/Build-a-Home-Slider.jpg
ORGANIZER;CN="Inland Civil Rights":MAILTO:info@inlandcivilrights.org
END:VEVENT
END:VCALENDAR