BEGIN:VCALENDAR
VERSION:2.0
PRODID:-//Civil Rights Institute Inland Southern California - ECPv6.15.20//NONSGML v1.0//EN
CALSCALE:GREGORIAN
METHOD:PUBLISH
X-ORIGINAL-URL:https://www.inlandcivilrights.org
X-WR-CALDESC:Events for Civil Rights Institute Inland Southern California
REFRESH-INTERVAL;VALUE=DURATION:PT1H
X-Robots-Tag:noindex
X-PUBLISHED-TTL:PT1H
BEGIN:VTIMEZONE
TZID:America/Los_Angeles
BEGIN:DAYLIGHT
TZOFFSETFROM:-0800
TZOFFSETTO:-0700
TZNAME:PDT
DTSTART:20180311T100000
END:DAYLIGHT
BEGIN:STANDARD
TZOFFSETFROM:-0700
TZOFFSETTO:-0800
TZNAME:PST
DTSTART:20181104T090000
END:STANDARD
BEGIN:DAYLIGHT
TZOFFSETFROM:-0800
TZOFFSETTO:-0700
TZNAME:PDT
DTSTART:20190310T100000
END:DAYLIGHT
BEGIN:STANDARD
TZOFFSETFROM:-0700
TZOFFSETTO:-0800
TZNAME:PST
DTSTART:20191103T090000
END:STANDARD
BEGIN:DAYLIGHT
TZOFFSETFROM:-0800
TZOFFSETTO:-0700
TZNAME:PDT
DTSTART:20200308T100000
END:DAYLIGHT
BEGIN:STANDARD
TZOFFSETFROM:-0700
TZOFFSETTO:-0800
TZNAME:PST
DTSTART:20201101T090000
END:STANDARD
END:VTIMEZONE
BEGIN:VEVENT
DTSTART;TZID=America/Los_Angeles:20190908T170000
DTEND;TZID=America/Los_Angeles:20190908T220000
DTSTAMP:20260425T101511
CREATED:20190625T063312Z
LAST-MODIFIED:20190625T063312Z
UID:10000032-1567962000-1567980000@www.inlandcivilrights.org
SUMMARY:Al Boyd's Men of Motown
DESCRIPTION:Grooving on a Sunday Afternoon Fundraiser for the Inland Civil Rights Institute\nThe climate for civil rights has become increasingly uncertain. \nIn these times\, it is critical for people to stand up for equal rights for all regardless of race\, gender\, national origin\, age\, ethnicity\, religion\, sexual orientation\, gender identity\, or disability. \nThe Civil Rights Institute of Inland Southern California is dedicated to protecting our civil rights now and in the future\, as well as memoralizing our region’s civil rights history. \nBut it will take everyone’s help to achieve this goal. \nThe Civil Rights Institute’s campaign will raise $1 million to build out the Institute’s facilities and $1 million to endow operations. \nGive Now Online: www.inlandcivilrights.org/donate \nAl Boyd’s Men of Motown with Special Performance by j.dee bolden. Doors open at 4:00 pm with a show start time at 5:00 pm. Parking is available in various parking garages within walking distance. \nVIP Tickets $100 | General Admission $45 \nVIP Tickets include show ticket and catered reception prior to show. \n 
URL:https://www.inlandcivilrights.org/event/al-boyds-men-of-motown/
LOCATION:Fox Performing Arts Center\, 3801 Mission Inn Avenue\, Riverside\, CA\, 92501\, United States
ATTACH;FMTTYPE=image/jpeg:https://www.inlandcivilrights.org/wp-content/uploads/2019/06/MenofMotown.jpg
END:VEVENT
END:VCALENDAR